BEGIN:VCALENDAR
VERSION:2.0
PRODID:-//Seaport Pier - ECPv6.15.17.1//NONSGML v1.0//EN
CALSCALE:GREGORIAN
METHOD:PUBLISH
X-ORIGINAL-URL:https://seaportpier.com
X-WR-CALDESC:Events for Seaport Pier
REFRESH-INTERVAL;VALUE=DURATION:PT1H
X-Robots-Tag:noindex
X-PUBLISHED-TTL:PT1H
BEGIN:VTIMEZONE
TZID:America/New_York
BEGIN:DAYLIGHT
TZOFFSETFROM:-0500
TZOFFSETTO:-0400
TZNAME:EDT
DTSTART:20230312T070000
END:DAYLIGHT
BEGIN:STANDARD
TZOFFSETFROM:-0400
TZOFFSETTO:-0500
TZNAME:EST
DTSTART:20231105T060000
END:STANDARD
BEGIN:DAYLIGHT
TZOFFSETFROM:-0500
TZOFFSETTO:-0400
TZNAME:EDT
DTSTART:20240310T070000
END:DAYLIGHT
BEGIN:STANDARD
TZOFFSETFROM:-0400
TZOFFSETTO:-0500
TZNAME:EST
DTSTART:20241103T060000
END:STANDARD
BEGIN:DAYLIGHT
TZOFFSETFROM:-0500
TZOFFSETTO:-0400
TZNAME:EDT
DTSTART:20250309T070000
END:DAYLIGHT
BEGIN:STANDARD
TZOFFSETFROM:-0400
TZOFFSETTO:-0500
TZNAME:EST
DTSTART:20251102T060000
END:STANDARD
END:VTIMEZONE
BEGIN:VEVENT
DTSTART;TZID=America/New_York:20240830T170000
DTEND;TZID=America/New_York:20240830T200000
DTSTAMP:20260422T070029
CREATED:20240716T174211Z
LAST-MODIFIED:20240716T174211Z
UID:2772-1725037200-1725048000@seaportpier.com
SUMMARY:Bob Kelly & DJ Gibby
DESCRIPTION:
URL:https://seaportpier.com/event/bob-kelly-dj-gibby-13/
END:VEVENT
BEGIN:VEVENT
DTSTART;TZID=America/New_York:20240830T200000
DTEND;TZID=America/New_York:20240830T200000
DTSTAMP:20260422T070029
CREATED:20240716T174212Z
LAST-MODIFIED:20240716T174212Z
UID:2773-1725048000-1725048000@seaportpier.com
SUMMARY:LeCompt
DESCRIPTION:
URL:https://seaportpier.com/event/lecompt-4/
END:VEVENT
END:VCALENDAR